BEGIN:VCALENDAR
VERSION:2.0
PRODID:-//Jüdisches Leben in Hamburg - ECPv6.1.3//NONSGML v1.0//EN
CALSCALE:GREGORIAN
METHOD:PUBLISH
X-WR-CALNAME:Jüdisches Leben in Hamburg
X-ORIGINAL-URL:https://juedischesleben.hamburg
X-WR-CALDESC:Veranstaltungen für Jüdisches Leben in Hamburg
REFRESH-INTERVAL;VALUE=DURATION:PT1H
X-Robots-Tag:noindex
X-PUBLISHED-TTL:PT1H
BEGIN:VTIMEZONE
TZID:Europe/Berlin
BEGIN:DAYLIGHT
TZOFFSETFROM:+0100
TZOFFSETTO:+0200
TZNAME:CEST
DTSTART:20210328T010000
END:DAYLIGHT
BEGIN:STANDARD
TZOFFSETFROM:+0200
TZOFFSETTO:+0100
TZNAME:CET
DTSTART:20211031T010000
END:STANDARD
END:VTIMEZONE
BEGIN:VEVENT
DTSTART;TZID=Europe/Berlin:20211129T183000
DTEND;TZID=Europe/Berlin:20211129T200000
DTSTAMP:20260423T013034
CREATED:20210226T122803Z
LAST-MODIFIED:20210226T122803Z
UID:1340-1638210600-1638216000@juedischesleben.hamburg
SUMMARY:Christina Feist: „Lazarus Bendavid (1762-1832). Politische Auswirkungen der Französischen Revolution auf einen jüdischen Pädagogen und Intellektuellen in Preußen“.
DESCRIPTION:Geboren und aufgewachsen in Berlin\, vertraut mit den Werken Voltaires\, übersetzte Lazarus Bendavid (1762–1832) auch Schriften an die Nationalversammlung aus dem Französischen. Seine Wiener Jahre wiederum nahmen aufgrund der gesellschaftspolitischen Nachwehen der französischen Revolution (1789/1799) ein jähes Ende. Bendavids Biographie spannt ein Dreieck zwischen Berlin\, Wien und Paris\, das sich in seinem Werk wiederspiegelt und im Vortrag besprochen werden soll. \nDieser Vortrag ist Teil von der Vortragsreihe „Haskala. Protagonisten der jüdischen Aufklärung“ am Institut für die Geschichte der deutschen Juden\, Hamburg \nKonzipiert und organisiert von Uta Lohmann
URL:https://juedischesleben.hamburg/event/christina-feist-lazarus-bendavid-1762-1832-politische-auswirkungen-der-franzoesischen-revolution-auf-einen-juedischen-paedagogen-und-intellektuellen-in-preussen/
LOCATION:Institut für die Geschichte deutscher Juden\, Beim Schlump 83\, Hamburg\, Hamburg\, 20144\, Deutschland
CATEGORIES:Vortrag
ORGANIZER;CN="Institut%20f%C3%BCr%20die%20Geschichte%20der%20deutschen%20Juden":MAILTO:http://www.igdj-hh.de
END:VEVENT
END:VCALENDAR