BEGIN:VCALENDAR
VERSION:2.0
PRODID:-//Jüdisches Leben in Hamburg - ECPv6.1.3//NONSGML v1.0//EN
CALSCALE:GREGORIAN
METHOD:PUBLISH
X-WR-CALNAME:Jüdisches Leben in Hamburg
X-ORIGINAL-URL:https://juedischesleben.hamburg
X-WR-CALDESC:Veranstaltungen für Jüdisches Leben in Hamburg
REFRESH-INTERVAL;VALUE=DURATION:PT1H
X-Robots-Tag:noindex
X-PUBLISHED-TTL:PT1H
BEGIN:VTIMEZONE
TZID:Europe/Berlin
BEGIN:DAYLIGHT
TZOFFSETFROM:+0100
TZOFFSETTO:+0200
TZNAME:CEST
DTSTART:20210328T010000
END:DAYLIGHT
BEGIN:STANDARD
TZOFFSETFROM:+0200
TZOFFSETTO:+0100
TZNAME:CET
DTSTART:20211031T010000
END:STANDARD
END:VTIMEZONE
BEGIN:VEVENT
DTSTART;VALUE=DATE:20210822
DTEND;VALUE=DATE:20210823
DTSTAMP:20260423T103509
CREATED:20210216T135635Z
LAST-MODIFIED:20210216T135635Z
UID:1075-1629590400-1629676799@juedischesleben.hamburg
SUMMARY:Tag der offenen Synagoge
DESCRIPTION:
URL:https://juedischesleben.hamburg/event/tag-der-offenen-synagoge/
LOCATION:Synagoge\, Hohe Weide 34\, Hamburg\, 20253
CATEGORIES:Tag der offenen Tür
END:VEVENT
END:VCALENDAR