BEGIN:VCALENDAR
VERSION:2.0
PRODID:-//Jüdisches Leben in Hamburg - ECPv6.1.3//NONSGML v1.0//EN
CALSCALE:GREGORIAN
METHOD:PUBLISH
X-WR-CALNAME:Jüdisches Leben in Hamburg
X-ORIGINAL-URL:https://juedischesleben.hamburg
X-WR-CALDESC:Veranstaltungen für Jüdisches Leben in Hamburg
REFRESH-INTERVAL;VALUE=DURATION:PT1H
X-Robots-Tag:noindex
X-PUBLISHED-TTL:PT1H
BEGIN:VTIMEZONE
TZID:Europe/Berlin
BEGIN:DAYLIGHT
TZOFFSETFROM:+0100
TZOFFSETTO:+0200
TZNAME:CEST
DTSTART:20210328T010000
END:DAYLIGHT
BEGIN:STANDARD
TZOFFSETFROM:+0200
TZOFFSETTO:+0100
TZNAME:CET
DTSTART:20211031T010000
END:STANDARD
END:VTIMEZONE
BEGIN:VEVENT
DTSTART;TZID=Europe/Berlin:20211115T183000
DTEND;TZID=Europe/Berlin:20211115T200000
DTSTAMP:20260423T075756
CREATED:20210226T122601Z
LAST-MODIFIED:20210226T122601Z
UID:1338-1637001000-1637006400@juedischesleben.hamburg
SUMMARY:Lisa Trzaska: „Joel Bril Löwe (1762-1802). Schwankende Schilfrohre und Füchse im Weinberg – Fabeln zwischen griechischer und jüdischer Tradition“.
DESCRIPTION:Joel Bril Löwe (1762–1802) stammte aus Berlin und war ein Schüler Moses Mendelssohns. Er wurde erst Kaufmann\, später Hauslehrer und schließlich Oberlehrer an der Königlichen Wilhelmsschule in Breslau. Zu seinen zahlreichen Schriften gehören auch moralische Fabeln\, die er auf Hebräisch in der Zeitschrift der jüdischen Aufklärer veröffentlichte. Für seine Fabeln greift Löwe\, wie viele Autoren des 18. Jahrhunderts\, auf Stoffe des griechischen Fabeldichters Aesop zurück. Doch er lässt auch Material aus Bibel und Talmud einfließen und\nzeigt seinen Zeitgenossen so auf geschickte Weise\, dass das Judentum schon in der Antike für neue Einflüsse offen war. \nDieser Vortrag ist Teil von der Vortragsreihe „Haskala. Protagonisten der jüdischen Aufklärung“ am Institut für die Geschichte der deutschen Juden\, Hamburg \nKonzipiert und organisiert von Uta Lohmann
URL:https://juedischesleben.hamburg/event/lisa-trzaska-joel-bril-loewe-1762-1802-schwankende-schilfrohre-und-fuechse-im-weinberg-fabeln-zwischen-griechischer-und-juedischer-tradition/
LOCATION:Institut für die Geschichte deutscher Juden\, Beim Schlump 83\, Hamburg\, Hamburg\, 20144\, Deutschland
CATEGORIES:Vortrag
ORGANIZER;CN="Institut%20f%C3%BCr%20die%20Geschichte%20der%20deutschen%20Juden":MAILTO:http://www.igdj-hh.de
END:VEVENT
END:VCALENDAR