BEGIN:VCALENDAR
VERSION:2.0
PRODID:-//Jüdisches Leben in Hamburg - ECPv6.1.3//NONSGML v1.0//EN
CALSCALE:GREGORIAN
METHOD:PUBLISH
X-ORIGINAL-URL:https://juedischesleben.hamburg
X-WR-CALDESC:Veranstaltungen für Jüdisches Leben in Hamburg
REFRESH-INTERVAL;VALUE=DURATION:PT1H
X-Robots-Tag:noindex
X-PUBLISHED-TTL:PT1H
BEGIN:VTIMEZONE
TZID:Europe/Berlin
BEGIN:DAYLIGHT
TZOFFSETFROM:+0100
TZOFFSETTO:+0200
TZNAME:CEST
DTSTART:20210328T010000
END:DAYLIGHT
BEGIN:STANDARD
TZOFFSETFROM:+0200
TZOFFSETTO:+0100
TZNAME:CET
DTSTART:20211031T010000
END:STANDARD
END:VTIMEZONE
BEGIN:VEVENT
DTSTART;TZID=Europe/Berlin:20211101T183000
DTEND;TZID=Europe/Berlin:20211101T200000
DTSTAMP:20260423T055319
CREATED:20210226T122340Z
LAST-MODIFIED:20210226T122340Z
UID:1336-1635791400-1635796800@juedischesleben.hamburg
SUMMARY:Ulrike Kollodzeiski: "Aaron Halle-Wolfssohn (1756-1835). Der Vermittler – Übersetzer\, Pädagoge\, Brückenbauer".
DESCRIPTION:Aaron Halle-Wolfssohn (1756-1835) war unter den Maskilim eine angesehene Persönlichkeit. Im Kreise Moses Mendelssohn in Berlin arbeitete er an der Übersetzung des Tanach mit und verfasste erstmals ein Hebräisch-Lehrbuch speziell für Kinder. Als Lehrer und Direktor der Königlichen Wilhelmsschule in Breslau setzte er sich für ein vielfältiges Curriculum ein und reagierte mit dramatischen Stücken auf aktuelle Fragen. Als Hauslehrer Giacomo Meyerbeers reiste er quer durch Europa. Wolfssohns Wirken war vielseitig und zielte immer auf eine Vermittlung zwischen Bewahren und Erneuern. \nDieser Vortrag ist Teil von der Vortragsreihe „Haskala. Protagonisten der jüdischen Aufklärung“ am Institut für die Geschichte der deutschen Juden\, Hamburg \nKonzipiert und organisiert von Uta Lohmann
URL:https://juedischesleben.hamburg/event/ulrike-kollodzeiski-aaron-halle-wolfssohn-1756-1835-der-vermittler-uebersetzer-paedagoge-brueckenbauer/
LOCATION:Institut für die Geschichte deutscher Juden\, Beim Schlump 83\, Hamburg\, Hamburg\, 20144\, Deutschland
CATEGORIES:Vortrag
ORGANIZER;CN="Institut%20f%C3%BCr%20die%20Geschichte%20der%20deutschen%20Juden":MAILTO:http://www.igdj-hh.de
END:VEVENT
END:VCALENDAR