BEGIN:VCALENDAR
VERSION:2.0
PRODID:-//Jüdisches Leben in Hamburg - ECPv6.1.3//NONSGML v1.0//EN
CALSCALE:GREGORIAN
METHOD:PUBLISH
X-WR-CALNAME:Jüdisches Leben in Hamburg
X-ORIGINAL-URL:https://juedischesleben.hamburg
X-WR-CALDESC:Veranstaltungen für Jüdisches Leben in Hamburg
REFRESH-INTERVAL;VALUE=DURATION:PT1H
X-Robots-Tag:noindex
X-PUBLISHED-TTL:PT1H
BEGIN:VTIMEZONE
TZID:Europe/Berlin
BEGIN:DAYLIGHT
TZOFFSETFROM:+0100
TZOFFSETTO:+0200
TZNAME:CEST
DTSTART:20210328T010000
END:DAYLIGHT
BEGIN:STANDARD
TZOFFSETFROM:+0200
TZOFFSETTO:+0100
TZNAME:CET
DTSTART:20211031T010000
END:STANDARD
END:VTIMEZONE
BEGIN:VEVENT
DTSTART;TZID=Europe/Berlin:20210627T150000
DTEND;TZID=Europe/Berlin:20210627T170000
DTSTAMP:20260423T062722
CREATED:20210216T135410Z
LAST-MODIFIED:20210323T163827Z
UID:1073-1624806000-1624813200@juedischesleben.hamburg
SUMMARY:Vortrag von Dr. Jurij Odesser „Der Dreißigjährige Krieg - ein Wendepunkt im Schicksal der deutschen Juden“
DESCRIPTION:
URL:https://juedischesleben.hamburg/event/vortrag-von-dr-jurij-odesser-der-dreissigjaehrige-krieg-ein-wendepunkt-im-schicksal-der-deutschen-juden/
LOCATION:Jüdisches Kulturhaus Hamburg\, Flora-Neumann-Straße 1\, Hamburg\, 20357
CATEGORIES:Vortrag
ORGANIZER;CN="Liberale%20J%C3%BCdische%20Gemeinde%20Hamburg%20e.V.":MAILTO:gemeinde@davidstern.de
END:VEVENT
END:VCALENDAR